BEGIN:VCALENDAR
VERSION:2.0
PRODID:-//Department Of Education//fb247c4d-6250-48f4-ae0e-1420a5cb5458
BEGIN:VTIMEZONE
TZID:Australia/Sydney
TZURL:http://tzurl.org/zoneinfo-outlook/Australia/Sydney
X-LIC-LOCATION:Australia/Sydney
BEGIN:STANDARD
TZOFFSETFROM:+1100
TZOFFSETTO:+1000
TZNAME:AEST
DTSTART:19700405T030000
RRULE:FREQ=YEARLY;BYMONTH=4;BYDAY=1SU
END:STANDARD
BEGIN:DAYLIGHT
TZOFFSETFROM:+1000
TZOFFSETTO:+1100
TZNAME:AEDT
DTSTART:19701004T020000
RRULE:FREQ=YEARLY;BYMONTH=10;BYDAY=1SU
END:DAYLIGHT
END:VTIMEZONE
CALSCALE:GREGORIAN
X-WR-TIMEZONE:Australia/Sydney
BEGIN:VEVENT
DTSTART;VALUE=DATE:20200323
DTEND;VALUE=DATE:20200404
DTSTAMP:20200323T000000Z
UID:42a9dd2d-62b1-4201-bbd3-5e7274e3aa2e
LOCATION:St Marys South Public School
SUMMARY;LANGUAGE=en-us:Mobile Dental Program 2020
SEQUENCE:0
DESCRIPTION:The school-based dental service includes the following: 1. An appointment to provide your child with a comprehensive dental check-up and preventative care package. 2. A review appointment within 12 months if required. 3. Additional treatment at school or in a local dental clinic if your child requires more dental care. All services from NSW Health will be provided at no cost to you. A Consent package is available from the school office if you need a replacement.   Visit www.health.nsw.gov.au/primaryschooldental for more information.
END:VEVENT
TRANSP:TRANSPARENT
END:VCALENDAR
