BEGIN:VCALENDAR
VERSION:2.0
PRODID:-//Department Of Education//27194d06-7628-4e85-a0ad-7a5c3d379d96
BEGIN:VTIMEZONE
TZID:Australia/Sydney
TZURL:http://tzurl.org/zoneinfo-outlook/Australia/Sydney
X-LIC-LOCATION:Australia/Sydney
BEGIN:STANDARD
TZOFFSETFROM:+1100
TZOFFSETTO:+1000
TZNAME:AEST
DTSTART:19700405T030000
RRULE:FREQ=YEARLY;BYMONTH=4;BYDAY=1SU
END:STANDARD
BEGIN:DAYLIGHT
TZOFFSETFROM:+1000
TZOFFSETTO:+1100
TZNAME:AEDT
DTSTART:19701004T020000
RRULE:FREQ=YEARLY;BYMONTH=10;BYDAY=1SU
END:DAYLIGHT
END:VTIMEZONE
CALSCALE:GREGORIAN
X-WR-TIMEZONE:Australia/Sydney
BEGIN:VEVENT
DTSTART;VALUE=DATE:20200303
DTEND;VALUE=DATE:20200304
DTSTAMP:20200303T000000Z
UID:70a117bc-c46e-49d4-9e6f-5d66d79fad5c
LOCATION:St Marys South Public School
SUMMARY;LANGUAGE=en-us:School Photos 2020
SEQUENCE:0
DESCRIPTION:School  Photos will be held on Tuesday 3 March 2020. It is preferred that you complete your orders online directly through  www.advancedlife.com.au using our school 9 digit advanced order code - W2G 7C8 354. If you wish to pay with cash, please return the envelope with the correct money on the day ( NO CHANGE WILL BE GIVEN). Should you have any queries concerning school photographs or online ordering, please direct them via email to enquiries@advancedlife.com.au    
END:VEVENT
TRANSP:TRANSPARENT
END:VCALENDAR
